BEGIN:VCALENDAR
VERSION:2.0
PRODID:-//ICSC Galway - ECPv6.15.16.1//NONSGML v1.0//EN
CALSCALE:GREGORIAN
METHOD:PUBLISH
X-WR-CALNAME:ICSC Galway
X-ORIGINAL-URL:https://icsc.bellyrules.com
X-WR-CALDESC:Events for ICSC Galway
REFRESH-INTERVAL;VALUE=DURATION:PT1H
X-Robots-Tag:noindex
X-PUBLISHED-TTL:PT1H
BEGIN:VTIMEZONE
TZID:UTC
BEGIN:STANDARD
TZOFFSETFROM:+0000
TZOFFSETTO:+0000
TZNAME:UTC
DTSTART:20230101T000000
END:STANDARD
END:VTIMEZONE
BEGIN:VEVENT
DTSTART;TZID=UTC:20240623T100000
DTEND;TZID=UTC:20240623T130000
DTSTAMP:20260421T114149
CREATED:20240802T101753Z
LAST-MODIFIED:20240802T101753Z
UID:10000008-1719136800-1719147600@icsc.bellyrules.com
SUMMARY:Yoga Day Celebrations 2024
DESCRIPTION:The Indian Cultural and Sports Community (ICSC) Galway \, along with Yoga Darśana \, is organizing a free yoga session for everyone to mark the celebration of International Yoga Day! \n🌿 Join us for a rejuvenating and enriching celebration of International Yoga Day! 🌿 \n📅 Date: June 23\, 2024\n🕘 Time: 10:00 AM – 1:00 PM\n📍 Location: Coláiste Muire Máthair\, St Mary’s Rd\, Galway\, H91 H7F8 \nThe first 45 minutes of the session will be conducted by yoga instructor Sarah \, followed by a 10-minute break. After the break\, yoga instructor Meena will guide us through different asanas. 🧘‍♀️🧘‍♂️ \nEmbrace the harmony of mind\, body\, and spirit with a morning of yoga sessions led by experienced instructors. Whether you’re a seasoned practitioner or a beginner\, our event welcomes everyone to experience the transformative power of yoga. \nHighlights: \n* 🧘‍♀️ Guided Yoga Sessions\n* 🥗 Healthy Refreshments\nPlease bring your yoga mat and wear comfortable clothing. We look forward to sharing this inspiring day with you! 🌟 \nFor more details and to register\,\nhttps://momence.com/s/103238642
URL:https://icsc.bellyrules.com/event/yoga-day-celebrations-2024/
LOCATION:Coláiste Muire Máthair\, Saint Mary's Road\, Galway\, H91 H7F8\, Ireland
CATEGORIES:Yoga Day
ATTACH;FMTTYPE=image/jpeg:https://icsc.bellyrules.com/wp-content/uploads/2024/08/WhatsApp-Image-2024-08-02-at-11.01.10.jpeg
ORGANIZER;CN="ICSC Galway":MAILTO:info@icscgalway.com
END:VEVENT
END:VCALENDAR