BEGIN:VCALENDAR
VERSION:2.0
PRODID:-//ICSC Galway - ECPv6.15.16.1//NONSGML v1.0//EN
CALSCALE:GREGORIAN
METHOD:PUBLISH
X-WR-CALNAME:ICSC Galway
X-ORIGINAL-URL:https://icsc.bellyrules.com
X-WR-CALDESC:Events for ICSC Galway
REFRESH-INTERVAL;VALUE=DURATION:PT1H
X-Robots-Tag:noindex
X-PUBLISHED-TTL:PT1H
BEGIN:VTIMEZONE
TZID:UTC
BEGIN:STANDARD
TZOFFSETFROM:+0000
TZOFFSETTO:+0000
TZNAME:UTC
DTSTART:20230101T000000
END:STANDARD
END:VTIMEZONE
BEGIN:VEVENT
DTSTART;TZID=UTC:20240817T130000
DTEND;TZID=UTC:20240817T180000
DTSTAMP:20260419T121644
CREATED:20240802T103802Z
LAST-MODIFIED:20240919T145949Z
UID:10000010-1723899600-1723917600@icsc.bellyrules.com
SUMMARY:India Day Celebrations
DESCRIPTION:🌟 Join Us for the Grand India Day Celebration! 🌟 \nThe Indian Cultural and Sports Community (ICSC) Galway and India Soc invite you to celebrate India Day – 77 years of Independence with us! 🇮🇳 \n📅 Event Details: \n🎲 Chess and Carrom Tournament:\n🗓️ Dates: 10-11 August\n⏰ Time: 3:00 PM – 5:00 PM\n📍 Venue: Joyces Community Hall\, Near Kingston Dental and Tesco\, Knocknacarra\, H91E7KW \n🇮🇳 India Day Celebration:\n🗓️ Date: 17 August\n⏰ Time: 1:00 PM – 6:00 PM\n📍 Venue: Human Biology Building\, University of Galway \n💫 Highlights:\n🧩 Adult Chess and Carrom Tournament\n🎲 Kids Chess Tournament\n🥻Fancy Dress Showcase\n🎤 Performing on the India Day Stage\n🛍️ Setting up Various Stalls (Food\, Articles\, Henna\, Games)\n📌 One-stop Link to Register for All Activities:\n🔗 https://linktr.ee/ICSCGalway \n❓ Have More Questions?\nReach out to: \nJay: 0894970159\nSai: 0851269802 \n🎉 Don’t miss out on this amazing celebration! Join us for fun\, culture\, and community spirit! 🎉
URL:https://icsc.bellyrules.com/event/india-day-celebrations/
LOCATION:Human Biology Building\, University of Galway\, Galway\, H91E7KW\, Ireland
CATEGORIES:Independence Day
ATTACH;FMTTYPE=image/jpeg:https://icsc.bellyrules.com/wp-content/uploads/2024/08/India-Independence-Day.jpg
ORGANIZER;CN="ICSC Galway":MAILTO:info@icscgalway.com
END:VEVENT
END:VCALENDAR